BEGIN:VCALENDAR
VERSION:2.0
PRODID:-//Clubs WA - ECPv5.0.2//NONSGML v1.0//EN
CALSCALE:GREGORIAN
METHOD:PUBLISH
X-WR-CALNAME:Clubs WA
X-ORIGINAL-URL:https://www.clubswa.com.au
X-WR-CALDESC:Events for Clubs WA
BEGIN:VTIMEZONE
TZID:Australia/Perth
BEGIN:STANDARD
TZOFFSETFROM:+0800
TZOFFSETTO:+0800
TZNAME:AWST
DTSTART:20200101T000000
END:STANDARD
END:VTIMEZONE
BEGIN:VEVENT
DTSTART;TZID=Australia/Perth:20200310T173000
DTEND;TZID=Australia/Perth:20200310T203000
DTSTAMP:20200229T124634
CREATED:20200121T043643Z
LAST-MODIFIED:20200213T083536Z
UID:2296-1583861400-1583872200@www.clubswa.com.au
SUMMARY:Committee and Board Compliance Workshop
DESCRIPTION:Do you want to learn more about your legal compliance and obligations as a Committee or Board member of a not-for-profit club or association? \nJoin Clubs WA for a comprehensive workshop on being a compliant and successful Committee/Board member.  This workshop will focus on: \n\nCommittee/Board Responsibilities under the Associations Incorporation Act and Liquor Control Act.\nMeeting Preparation\nEffective Meetings\nMember Discipline\nFinance\nand more!\n\nInclusions: Refreshments\, Certificate of Participation and a Committee and Board Compliance handbook for continued reference. \nDownload the Event Information Sheet & Registration Form for more details. Please RSVP by completing the form and emailing it to development@clubswa.com.au. \n
URL:https://www.clubswa.com.au/event/committee-and-board-compliance-workshop/
LOCATION:Clubs WA Office\, Unit 2\, 12 Hammond Road\, Cockburn Central\, Western Australia\, 6164\, Australia
CATEGORIES:Workshops
ORGANIZER;CN="Clubs%20WA":MAILTO:info@clubswa.com.au
END:VEVENT
BEGIN:VEVENT
DTSTART;TZID=Australia/Perth:20200311T100000
DTEND;TZID=Australia/Perth:20200311T150000
DTSTAMP:20200229T124634
CREATED:20191205T051436Z
LAST-MODIFIED:20200124T044546Z
UID:2087-1583920800-1583938800@www.clubswa.com.au
SUMMARY:Responsible Service of Alcohol (RSA) Training
DESCRIPTION: \nStreamline Training is a Western Australia based training organisation and Clubs WA’s preferred training provider for accredited courses. \nPersonalised Face-to-Face Training\nSITHFAB002 – Provide responsible service of alcohol unit of competency is the mandatory training required by anyone who is involved in the sale\, supply or service of alcohol in Western Australia. \nStreamline Training’s quality face-to-face training course delivers the skills and knowledge required to be able to responsibly sell or serve alcohol and to satisfy the requirements for this unit of competency.  Click here for more information. \nPrice\n\n$65:  Clubs WA Members:\n$90:  Non-Clubs WA Members\n\n  \nRegister\nTo register for Streamline Training’s face-to-face training course\, please complete this online form. \nAlternatively\, download and complete this Registration Form and send to Streamline Training or Clubs WA. \n  \nIf you would like to discuss this in more detail please contact Clubs WA on 9417 7149. \n
URL:https://www.clubswa.com.au/event/responsible-service-of-alcohol-rsa-workshop-3/
LOCATION:Clubs WA Office\, Unit 2\, 12 Hammond Road\, Cockburn Central\, Western Australia\, 6164\, Australia
CATEGORIES:Streamline Training
END:VEVENT
BEGIN:VEVENT
DTSTART;TZID=Australia/Perth:20200318T080000
DTEND;TZID=Australia/Perth:20200318T170000
DTSTAMP:20200229T124634
CREATED:20200226T020959Z
LAST-MODIFIED:20200226T020959Z
UID:2690-1584518400-1584550800@www.clubswa.com.au
SUMMARY:WA Chef Challenge 2020
DESCRIPTION:  \n \nThe annual Clubs WA Chef Challenge is back! Contestants will compete to cook the best dish on the day.\nThe challenge is open to all club chefs\, cooks and volunteers who cook at your club.\nDishes are judged on taste\, texture\, creativity\, presentation and technique. \n
URL:https://www.clubswa.com.au/event/wa-chef-challenge-2020/
LOCATION:Western Australia
END:VEVENT
BEGIN:VEVENT
DTSTART;TZID=Australia/Perth:20200325T133000
DTEND;TZID=Australia/Perth:20200325T163000
DTSTAMP:20200229T124634
CREATED:20191129T092128Z
LAST-MODIFIED:20200213T084025Z
UID:2004-1585143000-1585153800@www.clubswa.com.au
SUMMARY:Club Manager WA Workshop
DESCRIPTION:This workshop has been designed for both new and experienced managers of licensed Western Australian clubs. \nHaving contributed significantly to the Associations Incorporation Act 2015 and Liquor Control Act 1988 over the years\, there is no association better equipped than Clubs WA to train your club’s management in compliance and business development. \nThis workshop will focus on:\n\nOfficer Responsibilities under the Associations Incorporation Act 2015\nClub Management including: Role of Manager vs Committee; Financial Reporting; Meetings\nLiquor Licensing Compliance under the Liquor Control Act\nEvent Promotions (Non-Members\, Guests and Visitors)\nMember Discipline\nRisk Management\nand more!\n\nInclusions: Refreshments\, Certificate of Participation and a Club Manager WA training manual for continued reference \nRegistration closes the Monday prior to the workshop. Spaces are limited so please book early to avoid disappointment. \nDownload the Information Sheet & Registration Form for more details. Please RSVP by completing the form and emailing it to development@clubswa.com.au. \n  \n
URL:https://www.clubswa.com.au/event/club-managers-training-course/
LOCATION:Clubs WA Office\, Unit 2\, 12 Hammond Road\, Cockburn Central\, Western Australia\, 6164\, Australia
CATEGORIES:Workshops
ORGANIZER;CN="Clubs%20WA":MAILTO:info@clubswa.com.au
END:VEVENT
BEGIN:VEVENT
DTSTART;TZID=Australia/Perth:20200408T100000
DTEND;TZID=Australia/Perth:20200408T150000
DTSTAMP:20200229T124634
CREATED:20200214T014336Z
LAST-MODIFIED:20200214T060303Z
UID:2530-1586340000-1586358000@www.clubswa.com.au
SUMMARY:Responsible Service of Alcohol (RSA) Training
DESCRIPTION: \nStreamline Training is a Western Australia based training organisation and Clubs WA’s preferred training provider for accredited courses. \nPersonalised Face-to-Face Training\nSITHFAB002 – Provide responsible service of alcohol unit of competency is the mandatory training required by anyone who is involved in the sale\, supply or service of alcohol in Western Australia. \nStreamline Training’s quality face-to-face training course delivers the skills and knowledge required to be able to responsibly sell or serve alcohol and to satisfy the requirements for this unit of competency.  Click here for more information. \nPrice\n\n$65:  Clubs WA Members\n$90:  Non-Clubs WA Members\n\n  \nRegister\nTo register for Streamline Training’s face-to-face training course\, please complete this online form. \nAlternatively\, download and complete this Registration Form and send to Streamline Training or Clubs WA. \n  \nIf you would like to discuss this in more detail please contact Clubs WA on 9417 7149. \n
URL:https://www.clubswa.com.au/event/responsible-service-of-alcohol-rsa-training/
LOCATION:Clubs WA Office\, Unit 2\, 12 Hammond Road\, Cockburn Central\, Western Australia\, 6164\, Australia
CATEGORIES:Streamline Training
END:VEVENT
BEGIN:VEVENT
DTSTART;TZID=Australia/Perth:20200415T090000
DTEND;TZID=Australia/Perth:20200415T170000
DTSTAMP:20200229T124634
CREATED:20200214T025351Z
LAST-MODIFIED:20200214T040217Z
UID:2532-1586941200-1586970000@www.clubswa.com.au
SUMMARY:FREE Kalgoorlie Regional Visits
DESCRIPTION:Clubs WA is holding a FREE regional visit for Kalgoorlie. \nView the Event Information and Registration Form. \nIf you would like to attend\, please RSVP by contacting Clubs WA at marketing@clubswa.com.au or on 08 9417 7149. \n \n
URL:https://www.clubswa.com.au/event/free-kalgoorlie-regional-visits/
LOCATION:Kalgoorlie (TBC)\, WA\, Australia
CATEGORIES:Regional Meetings
ORGANIZER;CN="Clubs%20WA":MAILTO:info@clubswa.com.au
END:VEVENT
BEGIN:VEVENT
DTSTART;TZID=Australia/Perth:20200416T173000
DTEND;TZID=Australia/Perth:20200416T193000
DTSTAMP:20200229T124634
CREATED:20200214T043457Z
LAST-MODIFIED:20200221T033015Z
UID:2542-1587058200-1587065400@www.clubswa.com.au
SUMMARY:FREE Central Wheatbelt Regional Meeting - Merredin
DESCRIPTION:Clubs WA is holding a FREE regional meeting for the Central Wheatbelt region of WA in Merredin. \nView the Information and Registration Form. \nIf you would like to attend\, please RSVP by contacting Clubs WA at marketing@clubswa.com.au or on 08 9417 7149. \n \n
URL:https://www.clubswa.com.au/event/free-central-wheatbelt-regional-meeting-merredin/
LOCATION:Jimmy’s Merredin Palace Resturant\, Corner of Bates and Mitchell Street\,\, Merredin\, WA\, 6415\, Australia
CATEGORIES:Regional Meetings
ORGANIZER;CN="Clubs%20WA":MAILTO:info@clubswa.com.au
END:VEVENT
BEGIN:VEVENT
DTSTART;TZID=Australia/Perth:20200421T100000
DTEND;TZID=Australia/Perth:20200421T150000
DTSTAMP:20200229T124634
CREATED:20200214T043604Z
LAST-MODIFIED:20200214T043604Z
UID:2546-1587463200-1587481200@www.clubswa.com.au
SUMMARY:Approved Manager Training
DESCRIPTION: \nStreamline Training (RTO ID: 52811) is a registered training organisation under the WA Training Accreditation Council and Clubs WA’s preferred training provider for accredited courses.  Their trainers have both extensive experience in training and working at management level within the hospitality industry. \nPersonalised Face-to-Face Training\n52735WA – Course in Management of Licensed Premises\n \n\nMLPLCA401A – Manage legislative responsibilities for the sale\, supply and service of liquor and\nMLPLCA402A – Manage an environment for the sale\, supply and service of liquor\n\nThe core unit MLPLCA401A – Manage legislative responsibilities for the sale\, supply and service of liquor is the mandatory training as specified by the State Licensing Authority\, Department of Racing\, Gaming and Liquor for Unrestricted Approved Managers and Licensees. \nStreamline Training’s quality face-to-face training course delivers the skills and knowledge required to be able to satisfy the training requirement to apply for an Unrestricted Approved Manager Card. \nPrice\n\n$189:  Clubs WA Members\n$249:  Non-Clubs WA Members\n\nRegister\n\nTo register for Streamline Training’s face-to-face training course\, please complete this online form.\nAlternatively\, download and complete this Registration Form and send to Streamline Training or Clubs WA.\n\n  \nFor more information on Streamline Training\, you can also contact us on 08 9417 7149 or visit here. \n
URL:https://www.clubswa.com.au/event/approved-manager-training/
LOCATION:The Gate Bar & Bistro\, Success\, 816 Beeliar Dr\, Success\, Cockburn\, WA\, 6164\, Australia
CATEGORIES:Streamline Training
END:VEVENT
END:VCALENDAR